BEGIN:VCALENDAR
VERSION:2.0
PRODID:https://www.flvwdialog.de
METHOD:PUBLISH
BEGIN:VEVENT
DTSTART;TZID=Europe/Berlin:20261220T093000
DESCRIPTION:Erzeugt durch https://www.flvwdialog.de/info.php?id=20127
LOCATION:Oerlinghausen
SUMMARY:55. Weihnachtslauf Lipperreihe
UID:
SEQUENCE:0
DTSTAMP;TZID=Europe/Berlin:20260424T202827
END:VEVENT
END:VCALENDAR



