BEGIN:VCALENDAR
VERSION:2.0
PRODID:https://www.flvwdialog.de
METHOD:PUBLISH
BEGIN:VEVENT
DTSTART;TZID=Europe/Berlin:20261219T120000
DESCRIPTION:Heute Abend Meldeschluss - Erzeugt durch https://www.flvwdialog.de/info.php?id=20127
LOCATION:Oerlinghausen
SUMMARY:Heute Abend Meldeschluss - 55. Weihnachtslauf Lipperreihe
UID:MS
SEQUENCE:0
DTSTAMP;TZID=Europe/Berlin:20260424T202837
END:VEVENT
END:VCALENDAR



