BEGIN:VCALENDAR
VERSION:2.0
PRODID:https://www.flvwdialog.de
METHOD:PUBLISH
BEGIN:VEVENT
DTSTART;TZID=Europe/Berlin:20270214T110000
DESCRIPTION:Erzeugt durch https://www.flvwdialog.de/info.php?id=21457
LOCATION:Hamm
SUMMARY:53. Winterlaufserie (15 km)
UID:
SEQUENCE:0
DTSTAMP;TZID=Europe/Berlin:20260424T220535
END:VEVENT
END:VCALENDAR



