BEGIN:VCALENDAR
VERSION:2.0
PRODID:https://www.flvwdialog.de
METHOD:PUBLISH
BEGIN:VEVENT
DTSTART;TZID=Europe/Berlin:20270313T000000
DESCRIPTION:Erzeugt durch https://www.flvwdialog.de/info.php?id=21527
LOCATION:Fröndenberg
SUMMARY:51. Ruhrtallauf
UID:
SEQUENCE:0
DTSTAMP;TZID=Europe/Berlin:20260424T202838
END:VEVENT
END:VCALENDAR



