BEGIN:VCALENDAR
VERSION:2.0
PRODID:https://www.flvwdialog.de
METHOD:PUBLISH
BEGIN:VEVENT
DTSTART;TZID=Europe/Berlin:20260620T110000
DESCRIPTION:Erzeugt durch https://www.flvwdialog.de/info.php?id=21545
LOCATION:Velen
SUMMARY:18. Tiergartenlauf 2026
UID:
SEQUENCE:0
DTSTAMP;TZID=Europe/Berlin:20260424T174649
END:VEVENT
END:VCALENDAR



