BEGIN:VCALENDAR
VERSION:2.0
PRODID:https://www.flvwdialog.de
METHOD:PUBLISH
BEGIN:VEVENT
DTSTART;TZID=Europe/Berlin:20260613T151500
DESCRIPTION:Erzeugt durch https://www.flvwdialog.de/info.php?id=21549
LOCATION:Gelsenkirchen
SUMMARY:4. Zechenlauf - Neue Zeche Westerholt
UID:
SEQUENCE:0
DTSTAMP;TZID=Europe/Berlin:20260424T185458
END:VEVENT
END:VCALENDAR



