BEGIN:VCALENDAR
VERSION:2.0
PRODID:https://www.flvwdialog.de
METHOD:PUBLISH
BEGIN:VEVENT
DTSTART;TZID=Europe/Berlin:20261024T113000
DESCRIPTION:Erzeugt durch https://www.flvwdialog.de/info.php?id=21550
LOCATION:Nordwalde
SUMMARY:6. Nordwalder Laufspektakel
UID:
SEQUENCE:0
DTSTAMP;TZID=Europe/Berlin:20260424T202822
END:VEVENT
END:VCALENDAR



