BEGIN:VCALENDAR
VERSION:2.0
PRODID:https://www.flvwdialog.de
METHOD:PUBLISH
BEGIN:VEVENT
DTSTART;TZID=Europe/Berlin:20261129T100000
DESCRIPTION:Erzeugt durch https://www.flvwdialog.de/info.php?id=21555
LOCATION:Herten
SUMMARY:127. Bertlicher Straßenläufe
UID:
SEQUENCE:0
DTSTAMP;TZID=Europe/Berlin:20260424T202822
END:VEVENT
END:VCALENDAR



