BEGIN:VCALENDAR
VERSION:2.0
PRODID:https://www.flvwdialog.de
METHOD:PUBLISH
BEGIN:VEVENT
DTSTART;TZID=Europe/Berlin:20260627T173000
DESCRIPTION:Erzeugt durch https://www.flvwdialog.de/info.php?id=21569
LOCATION:Gütersloh-Isselhorst
SUMMARY:26. Isselhorster Nacht
UID:
SEQUENCE:0
DTSTAMP;TZID=Europe/Berlin:20260424T220506
END:VEVENT
END:VCALENDAR



