BEGIN:VCALENDAR
VERSION:2.0
PRODID:https://www.flvwdialog.de
METHOD:PUBLISH
BEGIN:VEVENT
DTSTART;TZID=Europe/Berlin:20261003T100000
DESCRIPTION:Erzeugt durch https://www.flvwdialog.de/info.php?id=21571
LOCATION:Warburg
SUMMARY:49. Warburger Oktoberwochenlauf
UID:
SEQUENCE:0
DTSTAMP;TZID=Europe/Berlin:20260424T202826
END:VEVENT
END:VCALENDAR



