BEGIN:VCALENDAR
VERSION:2.0
PRODID:https://www.flvwdialog.de
METHOD:PUBLISH
BEGIN:VEVENT
DTSTART;TZID=Europe/Berlin:20261007T180000
DESCRIPTION:Erzeugt durch https://www.flvwdialog.de/info.php?id=21572
LOCATION:Warburg
SUMMARY:34. Warburger Stundenlauf 2026
UID:
SEQUENCE:0
DTSTAMP;TZID=Europe/Berlin:20260424T202822
END:VEVENT
END:VCALENDAR



