BEGIN:VCALENDAR
VERSION:2.0
PRODID:https://www.flvwdialog.de
METHOD:PUBLISH
BEGIN:VEVENT
DTSTART;TZID=Europe/Berlin:20261214T110000
DESCRIPTION:Erzeugt durch https://www.flvwdialog.de/info.php?id=21578
LOCATION:Borgholzhausen
SUMMARY:Int. Weihnachts-Crosslauf
UID:
SEQUENCE:0
DTSTAMP;TZID=Europe/Berlin:20260424T155733
END:VEVENT
END:VCALENDAR



