BEGIN:VCALENDAR
VERSION:2.0
PRODID:https://www.flvwdialog.de
METHOD:PUBLISH
BEGIN:VEVENT
DTSTART;TZID=Europe/Berlin:20260321T120000
DESCRIPTION:Heute Abend Meldeschluss - Erzeugt durch https://www.flvwdialog.de/info.php?id=21580
LOCATION:Münster
SUMMARY:Heute Abend Meldeschluss - 28. Siena Garden-Straßenlauf
UID:MS
SEQUENCE:0
DTSTAMP;TZID=Europe/Berlin:20260420T103012
END:VEVENT
END:VCALENDAR



