BEGIN:VCALENDAR
VERSION:2.0
PRODID:https://www.flvwdialog.de
METHOD:PUBLISH
BEGIN:VEVENT
DTSTART;TZID=Europe/Berlin:20261003T130000
DESCRIPTION:Erzeugt durch https://www.flvwdialog.de/info.php?id=21594
LOCATION:Oer-Erkenschwick
SUMMARY:21. Stimberg-Haardlauf
UID:
SEQUENCE:0
DTSTAMP;TZID=Europe/Berlin:20260424T202838
END:VEVENT
END:VCALENDAR



