BEGIN:VCALENDAR
VERSION:2.0
PRODID:https://www.flvwdialog.de
METHOD:PUBLISH
BEGIN:VEVENT
DTSTART;TZID=Europe/Berlin:20260509T140000
DESCRIPTION:Erzeugt durch https://www.flvwdialog.de/info.php?id=21642
LOCATION:Lage
SUMMARY:Hörster Waldlauf im Naturpark Teutoburger Wald
UID:
SEQUENCE:0
DTSTAMP;TZID=Europe/Berlin:20260424T220536
END:VEVENT
END:VCALENDAR



