BEGIN:VCALENDAR
VERSION:2.0
PRODID:https://www.flvwdialog.de
METHOD:PUBLISH
BEGIN:VEVENT
DTSTART;TZID=Europe/Berlin:20260828T183000
DESCRIPTION:Erzeugt durch https://www.flvwdialog.de/info.php?id=21644
LOCATION:Recklinghausen
SUMMARY:9. Sparkassen-Abendlauf
UID:
SEQUENCE:0
DTSTAMP;TZID=Europe/Berlin:20260424T202823
END:VEVENT
END:VCALENDAR



