BEGIN:VCALENDAR
VERSION:2.0
PRODID:https://www.flvwdialog.de
METHOD:PUBLISH
BEGIN:VEVENT
DTSTART;TZID=Europe/Berlin:20260514T100000
DESCRIPTION:Erzeugt durch https://www.flvwdialog.de/info.php?id=21648
LOCATION:Sundern-Allendorf
SUMMARY:22. Lauf um den Allendorfer Bahnhof - Volksbank Sauerland Lauf Cup -
UID:
SEQUENCE:0
DTSTAMP;TZID=Europe/Berlin:20260424T202824
END:VEVENT
END:VCALENDAR



