BEGIN:VCALENDAR
VERSION:2.0
PRODID:https://www.flvwdialog.de
METHOD:PUBLISH
BEGIN:VEVENT
DTSTART;TZID=Europe/Berlin:20260512T120000
DESCRIPTION:Heute Abend Meldeschluss - Erzeugt durch https://www.flvwdialog.de/info.php?id=21648
LOCATION:Sundern-Allendorf
SUMMARY:Heute Abend Meldeschluss - 22. Lauf um den Allendorfer Bahnhof - Volksbank Sauerland Lauf Cup -
UID:MS
SEQUENCE:0
DTSTAMP;TZID=Europe/Berlin:20260424T202837
END:VEVENT
END:VCALENDAR



