BEGIN:VCALENDAR
VERSION:2.0
PRODID:https://www.flvwdialog.de
METHOD:PUBLISH
BEGIN:VEVENT
DTSTART;TZID=Europe/Berlin:20260522T193000
DESCRIPTION:Erzeugt durch https://www.flvwdialog.de/info.php?id=21650
LOCATION:Bad Oeynhausen
SUMMARY:41. Nationaler Stadtlauf Bad Oeynhausen
UID:
SEQUENCE:0
DTSTAMP;TZID=Europe/Berlin:20260424T204812
END:VEVENT
END:VCALENDAR



