BEGIN:VCALENDAR
VERSION:2.0
PRODID:https://www.flvwdialog.de
METHOD:PUBLISH
BEGIN:VEVENT
DTSTART;TZID=Europe/Berlin:20260705T100000
DESCRIPTION:Erzeugt durch https://www.flvwdialog.de/info.php?id=21652
LOCATION:Rheda-Wiedenbrück
SUMMARY:12. VW - THIEL Rheda-Wiedenbrücker Staffelmarathon
UID:
SEQUENCE:0
DTSTAMP;TZID=Europe/Berlin:20260424T220507
END:VEVENT
END:VCALENDAR



