BEGIN:VCALENDAR
VERSION:2.0
PRODID:https://www.flvwdialog.de
METHOD:PUBLISH
BEGIN:VEVENT
DTSTART;TZID=Europe/Berlin:20260905T140000
DESCRIPTION:Erzeugt durch https://www.flvwdialog.de/info.php?id=21654
LOCATION:Rheda-Wiedenbrück
SUMMARY:22. Volkslauf in St.Vit Laufen und Gutes tun
UID:
SEQUENCE:0
DTSTAMP;TZID=Europe/Berlin:20260424T220536
END:VEVENT
END:VCALENDAR



