BEGIN:VCALENDAR
VERSION:2.0
PRODID:https://www.flvwdialog.de
METHOD:PUBLISH
BEGIN:VEVENT
DTSTART;TZID=Europe/Berlin:20260619T190000
DESCRIPTION:Erzeugt durch https://www.flvwdialog.de/info.php?id=21657
LOCATION:Legden
SUMMARY:Legdener Volkslauf / Mittsommernachtslauf
UID:
SEQUENCE:0
DTSTAMP;TZID=Europe/Berlin:20260424T191331
END:VEVENT
END:VCALENDAR



