BEGIN:VCALENDAR
VERSION:2.0
PRODID:https://www.flvwdialog.de
METHOD:PUBLISH
BEGIN:VEVENT
DTSTART;TZID=Europe/Berlin:20260905T103000
DESCRIPTION:Erzeugt durch https://www.flvwdialog.de/info.php?id=21658
LOCATION:Warendorf
SUMMARY:46. Warendorfer Emssee-Lauf
UID:
SEQUENCE:0
DTSTAMP;TZID=Europe/Berlin:20260424T202823
END:VEVENT
END:VCALENDAR



