BEGIN:VCALENDAR
VERSION:2.0
PRODID:https://www.flvwdialog.de
METHOD:PUBLISH
BEGIN:VEVENT
DTSTART;TZID=Europe/Berlin:20260913T090000
DESCRIPTION:Erzeugt durch https://www.flvwdialog.de/info.php?id=21661
LOCATION:Münster
SUMMARY:24. Volksbank-Münster-Marathon
UID:
SEQUENCE:0
DTSTAMP;TZID=Europe/Berlin:20260424T174649
END:VEVENT
END:VCALENDAR



