BEGIN:VCALENDAR
VERSION:2.0
PRODID:https://www.flvwdialog.de
METHOD:PUBLISH
BEGIN:VEVENT
DTSTART;TZID=Europe/Berlin:20260509T150000
DESCRIPTION:Erzeugt durch https://www.flvwdialog.de/info.php?id=21664
LOCATION:Herzebrock-Clarholz
SUMMARY:35. Clarholzer Volkslauf
UID:
SEQUENCE:0
DTSTAMP;TZID=Europe/Berlin:20260424T234321
END:VEVENT
END:VCALENDAR



