BEGIN:VCALENDAR
VERSION:2.0
PRODID:https://www.flvwdialog.de
METHOD:PUBLISH
BEGIN:VEVENT
DTSTART;TZID=Europe/Berlin:20260613T140000
DESCRIPTION:Erzeugt durch https://www.flvwdialog.de/info.php?id=21665
LOCATION:Werne
SUMMARY:24. Werner Volksbank Stadtlauf   20. Team- / Firmenlauf
UID:
SEQUENCE:0
DTSTAMP;TZID=Europe/Berlin:20260424T202826
END:VEVENT
END:VCALENDAR



