BEGIN:VCALENDAR
VERSION:2.0
PRODID:https://www.flvwdialog.de
METHOD:PUBLISH
BEGIN:VEVENT
DTSTART;TZID=Europe/Berlin:20261024T133000
DESCRIPTION:Erzeugt durch https://www.flvwdialog.de/info.php?id=21666
LOCATION:Hilchenbach
SUMMARY:29. Helberhäuser HauBerg-Lauf
UID:
SEQUENCE:0
DTSTAMP;TZID=Europe/Berlin:20260424T220535
END:VEVENT
END:VCALENDAR



