BEGIN:VCALENDAR
VERSION:2.0
PRODID:https://www.flvwdialog.de
METHOD:PUBLISH
BEGIN:VEVENT
DTSTART;TZID=Europe/Berlin:20260525T000000
DESCRIPTION:Erzeugt durch https://www.flvwdialog.de/info.php?id=21667
LOCATION:Dortmund-Kirchlinde
SUMMARY:30. Dortmunder Friedenslauf
UID:
SEQUENCE:0
DTSTAMP;TZID=Europe/Berlin:20260424T202825
END:VEVENT
END:VCALENDAR



