BEGIN:VCALENDAR
VERSION:2.0
PRODID:https://www.flvwdialog.de
METHOD:PUBLISH
BEGIN:VEVENT
DTSTART;TZID=Europe/Berlin:20260524T093000
DESCRIPTION:Erzeugt durch https://www.flvwdialog.de/info.php?id=21669
LOCATION:Marienmünster- Kollerbeck
SUMMARY:52. Pfingstlauf SV Kollerbeck
UID:
SEQUENCE:0
DTSTAMP;TZID=Europe/Berlin:20260424T202825
END:VEVENT
END:VCALENDAR



