BEGIN:VCALENDAR
VERSION:2.0
PRODID:https://www.flvwdialog.de
METHOD:PUBLISH
BEGIN:VEVENT
DTSTART;TZID=Europe/Berlin:20260920T000000
DESCRIPTION:Erzeugt durch https://www.flvwdialog.de/info.php?id=21673
LOCATION:Möhnesee-Günne
SUMMARY:38. Möhnesee-Pokal-Lauf = Mehr als eine Herausforderung
UID:
SEQUENCE:0
DTSTAMP;TZID=Europe/Berlin:20260424T202826
END:VEVENT
END:VCALENDAR



