BEGIN:VCALENDAR
VERSION:2.0
PRODID:https://www.flvwdialog.de
METHOD:PUBLISH
BEGIN:VEVENT
DTSTART;TZID=Europe/Berlin:20260628T120000
DESCRIPTION:Erzeugt durch https://www.flvwdialog.de/info.php?id=21677
LOCATION:Rhede
SUMMARY:54. Intern. LAZ Meeting/Rhede
UID:
SEQUENCE:0
DTSTAMP;TZID=Europe/Berlin:20260424T202825
END:VEVENT
END:VCALENDAR



