BEGIN:VCALENDAR
VERSION:2.0
PRODID:https://www.flvwdialog.de
METHOD:PUBLISH
BEGIN:VEVENT
DTSTART;TZID=Europe/Berlin:20260503T080000
DESCRIPTION:Erzeugt durch https://www.flvwdialog.de/info.php?id=21678
LOCATION:Bochum-Stiepel
SUMMARY:23. Volkslauf am Kemnader Stausee
UID:
SEQUENCE:0
DTSTAMP;TZID=Europe/Berlin:20260424T202823
END:VEVENT
END:VCALENDAR



