BEGIN:VCALENDAR
VERSION:2.0
PRODID:https://www.flvwdialog.de
METHOD:PUBLISH
BEGIN:VEVENT
DTSTART;TZID=Europe/Berlin:20261003T000000
DESCRIPTION:Erzeugt durch https://www.flvwdialog.de/info.php?id=21679
LOCATION:Bad Berleburg - Aue
SUMMARY:53. Rothaarwaldlauf
UID:
SEQUENCE:0
DTSTAMP;TZID=Europe/Berlin:20260424T220507
END:VEVENT
END:VCALENDAR



