BEGIN:VCALENDAR
VERSION:2.0
PRODID:https://www.flvwdialog.de
METHOD:PUBLISH
BEGIN:VEVENT
DTSTART;TZID=Europe/Berlin:20260920T000000
DESCRIPTION:Erzeugt durch https://www.flvwdialog.de/info.php?id=21682
LOCATION:Fleckenberg
SUMMARY:39. Herbstlauf und 29. Wandertag Fleckenberg
UID:
SEQUENCE:0
DTSTAMP;TZID=Europe/Berlin:20260424T202826
END:VEVENT
END:VCALENDAR



