BEGIN:VCALENDAR
VERSION:2.0
PRODID:https://www.flvwdialog.de
METHOD:PUBLISH
BEGIN:VEVENT
DTSTART;TZID=Europe/Berlin:20260905T143000
DESCRIPTION:Erzeugt durch https://www.flvwdialog.de/info.php?id=21684
LOCATION:Finnentrop-Fretter
SUMMARY:62. Herbstwaldlauf (Volksbank Sauerland Lauf Cup) inkl. Hobby-Mountainbike-Rennen
UID:
SEQUENCE:0
DTSTAMP;TZID=Europe/Berlin:20260424T202824
END:VEVENT
END:VCALENDAR



