BEGIN:VCALENDAR
VERSION:2.0
PRODID:https://www.flvwdialog.de
METHOD:PUBLISH
BEGIN:VEVENT
DTSTART;TZID=Europe/Berlin:20260904T163000
DESCRIPTION:Erzeugt durch https://www.flvwdialog.de/info.php?id=21688
LOCATION:Beckum
SUMMARY:Sparkassen Pütt-Tage-Lauf 2026
UID:
SEQUENCE:0
DTSTAMP;TZID=Europe/Berlin:20260424T202839
END:VEVENT
END:VCALENDAR



