BEGIN:VCALENDAR
VERSION:2.0
PRODID:https://www.flvwdialog.de
METHOD:PUBLISH
BEGIN:VEVENT
DTSTART;TZID=Europe/Berlin:20260614T000000
DESCRIPTION:Erzeugt durch https://www.flvwdialog.de/info.php?id=21694
LOCATION:Sundern-Hagen
SUMMARY:Sauerland-Höhenflug-Trailrun
UID:
SEQUENCE:0
DTSTAMP;TZID=Europe/Berlin:20260424T185633
END:VEVENT
END:VCALENDAR



