BEGIN:VCALENDAR
VERSION:2.0
PRODID:https://www.flvwdialog.de
METHOD:PUBLISH
BEGIN:VEVENT
DTSTART;TZID=Europe/Berlin:20260822T100000
DESCRIPTION:Erzeugt durch https://www.flvwdialog.de/info.php?id=21695
LOCATION:Vlotho
SUMMARY:Exter FlexRun! 2026
UID:
SEQUENCE:0
DTSTAMP;TZID=Europe/Berlin:20260424T220507
END:VEVENT
END:VCALENDAR



