BEGIN:VCALENDAR
VERSION:2.0
PRODID:https://www.flvwdialog.de
METHOD:PUBLISH
BEGIN:VEVENT
DTSTART;TZID=Europe/Berlin:20260612T180000
DESCRIPTION:Erzeugt durch https://www.flvwdialog.de/info.php?id=21696
LOCATION:Unna
SUMMARY:BORNE TO RUN (48-Stunden-Lauf)
UID:
SEQUENCE:0
DTSTAMP;TZID=Europe/Berlin:20260424T173153
END:VEVENT
END:VCALENDAR



