BEGIN:VCALENDAR
VERSION:2.0
PRODID:https://www.flvwdialog.de
METHOD:PUBLISH
BEGIN:VEVENT
DTSTART;TZID=Europe/Berlin:20260614T120000
DESCRIPTION:Heute Abend Meldeschluss - Erzeugt durch https://www.flvwdialog.de/info.php?id=21698
LOCATION:Espelkamp
SUMMARY:Heute Abend Meldeschluss - 2. Benkhauser Schlosslauf
UID:MS
SEQUENCE:0
DTSTAMP;TZID=Europe/Berlin:20260424T220535
END:VEVENT
END:VCALENDAR



