BEGIN:VCALENDAR
VERSION:2.0
PRODID:https://www.flvwdialog.de
METHOD:PUBLISH
BEGIN:VEVENT
DTSTART;TZID=Europe/Berlin:20261010T144500
DESCRIPTION:Erzeugt durch https://www.flvwdialog.de/info.php?id=21702
LOCATION:Schieder-Schwalenberg
SUMMARY:20. Brakelsieker Volkslauf "Am Fuße des Mörths"
UID:
SEQUENCE:0
DTSTAMP;TZID=Europe/Berlin:20260424T220509
END:VEVENT
END:VCALENDAR



