BEGIN:VCALENDAR
VERSION:2.0
PRODID:https://www.flvwdialog.de
METHOD:PUBLISH
BEGIN:VEVENT
DTSTART;TZID=Europe/Berlin:20260426T100000
DESCRIPTION:Erzeugt durch https://www.flvwdialog.de/info.php?id=21704
LOCATION:Emmerich am Rhein
SUMMARY:9. Internationales EMM-Athletik-Sportfest
UID:
SEQUENCE:0
DTSTAMP;TZID=Europe/Berlin:20260424T173154
END:VEVENT
END:VCALENDAR



