BEGIN:VCALENDAR
VERSION:2.0
PRODID:https://www.flvwdialog.de
METHOD:PUBLISH
BEGIN:VEVENT
DTSTART;TZID=Europe/Berlin:20260823T091500
DESCRIPTION:Erzeugt durch https://www.flvwdialog.de/info.php?id=21705
LOCATION:Gladbeck
SUMMARY:21. Gladbecker Sparkassenlauf
UID:
SEQUENCE:0
DTSTAMP;TZID=Europe/Berlin:20260424T202824
END:VEVENT
END:VCALENDAR



