BEGIN:VCALENDAR
VERSION:2.0
PRODID:https://www.flvwdialog.de
METHOD:PUBLISH
BEGIN:VEVENT
DTSTART;TZID=Europe/Berlin:20260620T103000
DESCRIPTION:Erzeugt durch https://www.flvwdialog.de/info.php?id=21706
LOCATION:Bestwig-Wasserfall
SUMMARY:22. FORT FUN Westernlauf
UID:
SEQUENCE:0
DTSTAMP;TZID=Europe/Berlin:20260424T173626
END:VEVENT
END:VCALENDAR



