BEGIN:VCALENDAR
VERSION:2.0
PRODID:https://www.flvwdialog.de
METHOD:PUBLISH
BEGIN:VEVENT
DTSTART;TZID=Europe/Berlin:20260530T000000
DESCRIPTION:Erzeugt durch https://www.flvwdialog.de/info.php?id=21708
LOCATION:Coesfeld
SUMMARY:27. Johannes-Lauf Lette
UID:
SEQUENCE:0
DTSTAMP;TZID=Europe/Berlin:20260423T181642
END:VEVENT
END:VCALENDAR



