BEGIN:VCALENDAR
VERSION:2.0
PRODID:https://www.flvwdialog.de
METHOD:PUBLISH
BEGIN:VEVENT
DTSTART;TZID=Europe/Berlin:20260621T140000
DESCRIPTION:Erzeugt durch https://www.flvwdialog.de/info.php?id=21711
LOCATION:Oelde
SUMMARY:13. Letter Vituslauf 2026
UID:
SEQUENCE:0
DTSTAMP;TZID=Europe/Berlin:20260424T191331
END:VEVENT
END:VCALENDAR



