BEGIN:VCALENDAR
VERSION:2.0
PRODID:https://www.flvwdialog.de
METHOD:PUBLISH
BEGIN:VEVENT
DTSTART;TZID=Europe/Berlin:20260510T100000
DESCRIPTION:Erzeugt durch https://www.flvwdialog.de/info.php?id=21728
LOCATION:Ahlen
SUMMARY:Ahlener Stadtteil- und Haldenlauf
UID:
SEQUENCE:0
DTSTAMP;TZID=Europe/Berlin:20260424T202826
END:VEVENT
END:VCALENDAR



