BEGIN:VCALENDAR
VERSION:2.0
PRODID:https://www.flvwdialog.de
METHOD:PUBLISH
BEGIN:VEVENT
DTSTART;TZID=Europe/Berlin:20260430T163000
DESCRIPTION:Erzeugt durch https://www.flvwdialog.de/info.php?id=21729
LOCATION:Nordkirchen
SUMMARY:26. Nordkirchener Schloß- und Dorflauf
UID:
SEQUENCE:0
DTSTAMP;TZID=Europe/Berlin:20260424T220507
END:VEVENT
END:VCALENDAR



