BEGIN:VCALENDAR
VERSION:2.0
PRODID:https://www.flvwdialog.de
METHOD:PUBLISH
BEGIN:VEVENT
DTSTART;TZID=Europe/Berlin:20260904T120000
DESCRIPTION:Heute Abend Meldeschluss - Erzeugt durch https://www.flvwdialog.de/info.php?id=21750
LOCATION:Ense-Höingen
SUMMARY:Heute Abend Meldeschluss - 19. Höinger Heidelauf
UID:MS
SEQUENCE:0
DTSTAMP;TZID=Europe/Berlin:20260424T202836
END:VEVENT
END:VCALENDAR



