BEGIN:VCALENDAR
VERSION:2.0
PRODID:https://www.flvwdialog.de
METHOD:PUBLISH
BEGIN:VEVENT
DTSTART;TZID=Europe/Berlin:20260613T000000
DESCRIPTION:Erzeugt durch https://www.flvwdialog.de/info.php?id=21786
LOCATION:Gladbeck
SUMMARY:FLVW Meisterschaften I und II
UID:
SEQUENCE:0
DTSTAMP;TZID=Europe/Berlin:20260424T173154
END:VEVENT
END:VCALENDAR



